BEGIN:VCALENDAR
VERSION:2.0
PRODID:-//crocdanse - ECPv6.15.20//NONSGML v1.0//EN
CALSCALE:GREGORIAN
METHOD:PUBLISH
X-WR-CALNAME:crocdanse
X-ORIGINAL-URL:https://crocdanse.fr
X-WR-CALDESC:Évènements pour crocdanse
REFRESH-INTERVAL;VALUE=DURATION:PT1H
X-Robots-Tag:noindex
X-PUBLISHED-TTL:PT1H
BEGIN:VTIMEZONE
TZID:Europe/Paris
BEGIN:DAYLIGHT
TZOFFSETFROM:+0100
TZOFFSETTO:+0200
TZNAME:CEST
DTSTART:20250330T010000
END:DAYLIGHT
BEGIN:STANDARD
TZOFFSETFROM:+0200
TZOFFSETTO:+0100
TZNAME:CET
DTSTART:20251026T010000
END:STANDARD
BEGIN:DAYLIGHT
TZOFFSETFROM:+0100
TZOFFSETTO:+0200
TZNAME:CEST
DTSTART:20260329T010000
END:DAYLIGHT
BEGIN:STANDARD
TZOFFSETFROM:+0200
TZOFFSETTO:+0100
TZNAME:CET
DTSTART:20261025T010000
END:STANDARD
BEGIN:DAYLIGHT
TZOFFSETFROM:+0100
TZOFFSETTO:+0200
TZNAME:CEST
DTSTART:20270328T010000
END:DAYLIGHT
BEGIN:STANDARD
TZOFFSETFROM:+0200
TZOFFSETTO:+0100
TZNAME:CET
DTSTART:20271031T010000
END:STANDARD
END:VTIMEZONE
BEGIN:VEVENT
DTSTART;TZID=Europe/Paris:20260418T150000
DTEND;TZID=Europe/Paris:20260418T233000
DTSTAMP:20260423T215207
CREATED:20260224T103849Z
LAST-MODIFIED:20260411T131840Z
UID:1964-1776524400-1776555000@crocdanse.fr
SUMMARY:stage de danses du poitou
DESCRIPTION:Stage de Danses du Poitou suivi d’un bal Folk \n\n\n\n\n\n\n\nProgramme:15h – 18h stage de danses du Poitou animé par Lucas Thébaut18h30 – 19h30 repas partagé20h Bal Folk avecle Duo Brunel + Miró et Turbobal \n\n\n\nBuvette  \n\n\n\nFlyer du stage \n\n\n\n\nRéservation helloasso\n\n\n\n\n\n \n\n\n\n\n\nCovoiturage
URL:https://crocdanse.fr/event/stage-de-danses-du-poitou/
LOCATION:Salle d’animation de Pringy\, 25 place Georges Boileau\, Pringy\, 74370
ATTACH;FMTTYPE=image/jpeg:https://crocdanse.fr/wp-content/uploads/2026/02/Affiche-18-avril-2026-resum.jpg
END:VEVENT
END:VCALENDAR