BEGIN:VCALENDAR
VERSION:2.0
PRODID:-//crocdanse - ECPv6.15.20//NONSGML v1.0//EN
CALSCALE:GREGORIAN
METHOD:PUBLISH
X-ORIGINAL-URL:https://crocdanse.fr
X-WR-CALDESC:Évènements pour crocdanse
REFRESH-INTERVAL;VALUE=DURATION:PT1H
X-Robots-Tag:noindex
X-PUBLISHED-TTL:PT1H
BEGIN:VTIMEZONE
TZID:Europe/Paris
BEGIN:DAYLIGHT
TZOFFSETFROM:+0100
TZOFFSETTO:+0200
TZNAME:CEST
DTSTART:20250330T010000
END:DAYLIGHT
BEGIN:STANDARD
TZOFFSETFROM:+0200
TZOFFSETTO:+0100
TZNAME:CET
DTSTART:20251026T010000
END:STANDARD
BEGIN:DAYLIGHT
TZOFFSETFROM:+0100
TZOFFSETTO:+0200
TZNAME:CEST
DTSTART:20260329T010000
END:DAYLIGHT
BEGIN:STANDARD
TZOFFSETFROM:+0200
TZOFFSETTO:+0100
TZNAME:CET
DTSTART:20261025T010000
END:STANDARD
BEGIN:DAYLIGHT
TZOFFSETFROM:+0100
TZOFFSETTO:+0200
TZNAME:CEST
DTSTART:20270328T010000
END:DAYLIGHT
BEGIN:STANDARD
TZOFFSETFROM:+0200
TZOFFSETTO:+0100
TZNAME:CET
DTSTART:20271031T010000
END:STANDARD
END:VTIMEZONE
BEGIN:VEVENT
DTSTART;TZID=Europe/Paris:20260123T203000
DTEND;TZID=Europe/Paris:20260123T233000
DTSTAMP:20260424T060107
CREATED:20251216T110829Z
LAST-MODIFIED:20251216T134157Z
UID:1894-1769200200-1769211000@crocdanse.fr
SUMMARY:Bal au Polyèdre du 23 Janvier 2026
DESCRIPTION:avec Les Gens du coin \n\n\n\net Celtic Alpes \n\n\n\n\n\n\n\n \n\n\n\nMusiques et danses de tradition populaire de France et d’ailleurs.Nouvelles danses expliquées sur place.Ouvert à tous et à toutes\, débutant(e)s et confirmé(e)s.Conditions d’entrée : Libre participation financière du public \n\n\n\nVoir l’affiche
URL:https://crocdanse.fr/event/bal-au-polyedre-du-23-janvier-2026/
LOCATION:Le Polyèdre\, 4 impasse Saint-Jean\, Annecy\, 74600
CATEGORIES:bal
ATTACH;FMTTYPE=image/jpeg:https://crocdanse.fr/wp-content/uploads/2025/12/bal-polyedre-23012025-carre.jpg
END:VEVENT
END:VCALENDAR