BEGIN:VCALENDAR
VERSION:2.0
PRODID:-//crocdanse - ECPv6.15.20//NONSGML v1.0//EN
CALSCALE:GREGORIAN
METHOD:PUBLISH
X-WR-CALNAME:crocdanse
X-ORIGINAL-URL:https://crocdanse.fr
X-WR-CALDESC:Évènements pour crocdanse
REFRESH-INTERVAL;VALUE=DURATION:PT1H
X-Robots-Tag:noindex
X-PUBLISHED-TTL:PT1H
BEGIN:VTIMEZONE
TZID:Europe/Paris
BEGIN:DAYLIGHT
TZOFFSETFROM:+0100
TZOFFSETTO:+0200
TZNAME:CEST
DTSTART:20240331T010000
END:DAYLIGHT
BEGIN:STANDARD
TZOFFSETFROM:+0200
TZOFFSETTO:+0100
TZNAME:CET
DTSTART:20241027T010000
END:STANDARD
BEGIN:DAYLIGHT
TZOFFSETFROM:+0100
TZOFFSETTO:+0200
TZNAME:CEST
DTSTART:20250330T010000
END:DAYLIGHT
BEGIN:STANDARD
TZOFFSETFROM:+0200
TZOFFSETTO:+0100
TZNAME:CET
DTSTART:20251026T010000
END:STANDARD
BEGIN:DAYLIGHT
TZOFFSETFROM:+0100
TZOFFSETTO:+0200
TZNAME:CEST
DTSTART:20260329T010000
END:DAYLIGHT
BEGIN:STANDARD
TZOFFSETFROM:+0200
TZOFFSETTO:+0100
TZNAME:CET
DTSTART:20261025T010000
END:STANDARD
END:VTIMEZONE
BEGIN:VEVENT
DTSTART;TZID=Europe/Paris:20250919T203000
DTEND;TZID=Europe/Paris:20250919T233000
DTSTAMP:20260424T071814
CREATED:20250703T162133Z
LAST-MODIFIED:20250729T081442Z
UID:1330-1758313800-1758324600@crocdanse.fr
SUMMARY:Bal au Polyèdre 19 septembre
DESCRIPTION:Prochain bal: \nVendredi 19 Septembre 2025 \navec \nLes Filles de l’Est \n\net \n  Viens Poupoule \n \nDès 20h30  \n \nMusiques et danses de tradition populaire de France et d’ailleurs.\nNouvelles danses expliquées sur place.\nOuvert à tous et à toutes\, débutant(e)s et confirmé(e)s.\nConditions d’entrée : Libre participation financière du public
URL:https://crocdanse.fr/event/bal-au-polyedre-19-septembre/
LOCATION:Le Polyèdre\, 4 impasse Saint-Jean\, Annecy\, 74600
CATEGORIES:bal
ATTACH;FMTTYPE=image/jpeg:https://crocdanse.fr/wp-content/uploads/2025/07/DSC_0129_wp.jpg
END:VEVENT
BEGIN:VEVENT
DTSTART;TZID=Europe/Paris:20250928T160000
DTEND;TZID=Europe/Paris:20250928T200000
DTSTAMP:20260424T071814
CREATED:20250621T142816Z
LAST-MODIFIED:20250927T091049Z
UID:1227-1759075200-1759089600@crocdanse.fr
SUMMARY:Bal de la rentrée
DESCRIPTION:Programme\n\nLa rentrée arrive à grands pas avec le démarrage de toutes les activités sportives et culturelles. \nCroc’Danse vous invite à vous mettre en jambes lors de son 1er bal folk animé par 2 groupes locaux : \nDAJDA \n \nTétradélyre \n \n  \n\n\n\n\nvoir l’affiche
URL:https://crocdanse.fr/event/bal-de-la-rentree/
LOCATION:Salle Oscar 4 Rte de Bessine74150 Rumilly\, 4 route de Bessine\, Rumilly\, 74150\, France
CATEGORIES:bal
ATTACH;FMTTYPE=image/jpeg:https://crocdanse.fr/wp-content/uploads/2025/06/DSC_3004_wp.jpg
END:VEVENT
END:VCALENDAR