BEGIN:VCALENDAR
VERSION:2.0
PRODID:-//crocdanse - ECPv6.15.20//NONSGML v1.0//EN
CALSCALE:GREGORIAN
METHOD:PUBLISH
X-ORIGINAL-URL:https://crocdanse.fr
X-WR-CALDESC:Évènements pour crocdanse
REFRESH-INTERVAL;VALUE=DURATION:PT1H
X-Robots-Tag:noindex
X-PUBLISHED-TTL:PT1H
BEGIN:VTIMEZONE
TZID:Europe/Paris
BEGIN:DAYLIGHT
TZOFFSETFROM:+0100
TZOFFSETTO:+0200
TZNAME:CEST
DTSTART:20240331T010000
END:DAYLIGHT
BEGIN:STANDARD
TZOFFSETFROM:+0200
TZOFFSETTO:+0100
TZNAME:CET
DTSTART:20241027T010000
END:STANDARD
BEGIN:DAYLIGHT
TZOFFSETFROM:+0100
TZOFFSETTO:+0200
TZNAME:CEST
DTSTART:20250330T010000
END:DAYLIGHT
BEGIN:STANDARD
TZOFFSETFROM:+0200
TZOFFSETTO:+0100
TZNAME:CET
DTSTART:20251026T010000
END:STANDARD
BEGIN:DAYLIGHT
TZOFFSETFROM:+0100
TZOFFSETTO:+0200
TZNAME:CEST
DTSTART:20260329T010000
END:DAYLIGHT
BEGIN:STANDARD
TZOFFSETFROM:+0200
TZOFFSETTO:+0100
TZNAME:CET
DTSTART:20261025T010000
END:STANDARD
END:VTIMEZONE
BEGIN:VEVENT
DTSTART;TZID=Europe/Paris:20251018T093000
DTEND;TZID=Europe/Paris:20251018T170000
DTSTAMP:20260424T055143
CREATED:20250802T092142Z
LAST-MODIFIED:20251010T122227Z
UID:1525-1760779800-1760806800@crocdanse.fr
SUMMARY:folk en montagne
DESCRIPTION:Journée « folk en montagne » \n\n\n\n\n\n\n\nElle aura lieu salle d’animation de La Motte en Bauges le samedi 18 octobre. \n\n\n\n (détails sur la plaquette) \n\n\n\nMatinée Rendez-Vous à 9h30 \n\n\n\nDépart pour la randonnée: Dernières précisions\, Marc et Serge ont reconnu une balade qui est très bien : le sentier découverte des GARINS au Chatelard. \n\n\n\nParc contre il faudra prendre les voitures pour se rendre au départ au parking du hameau des Garins : 6 km depuis la salle de La Motte \, environ ¼ h. \n\n\n\nLa boucle complète fait 5km \, 200m de dénivelé\, pour 2h30 sans se presser\, et un raccourci est possible. \n\n\n\nEn cas de mauvais temps un repli sur La Motte / Le Chatelard sera préposé. \n\n\n\nConsigne : pour respecter le timing\, il faudrait à tout prix ne pas partir de la salle après 9 h 30\, donc RDV a partir de 8h45 à la salle pour se préparer et boire le café. \n\n\n\n\n\n\n\n\nLE TOPO DE LA BALADE\n\n\n\n\n \n\n\n\n12h30Apéro offert par Croc’Danse suivi d’un pique nique partagé \n\n\n\nAprés-midiMusique et danses \n\n\n\nscène ouverte aux musiciens\, chanteurs et conteurs
URL:https://crocdanse.fr/event/folk-en-montagne-2/
LOCATION:salle des Fêtes de la Motte en Bauges\, route des Bassins\, La Motte en Bauges\, 73340
CATEGORIES:rencontre
ATTACH;FMTTYPE=image/jpeg:https://crocdanse.fr/wp-content/uploads/2025/07/DSC_3181_wp.jpg
END:VEVENT
BEGIN:VEVENT
DTSTART;TZID=Europe/Paris:20251027T200000
DTEND;TZID=Europe/Paris:20251027T230000
DTSTAMP:20260424T055143
CREATED:20251008T152337Z
LAST-MODIFIED:20251024T085433Z
UID:1705-1761595200-1761606000@crocdanse.fr
SUMMARY:assemblée générale crocdanse
DESCRIPTION:Notez dès maintenant la date de l’AG de Croc’danse\, qui aura lieu le lundi 27 octobre à 20h\, à la salle Saint Martin à Annecy.  \n\n\n\nVous pouvez télécharger la convocation ici \n\n\n\nUne Assemblée Générale Extraordinaire se tiendra juste avant l’Assemblée Générale Ordinaire\, à 20h \n\n\n\n. Vous trouverez la convocation ici. \n\n\n\nLe but de cette AGE est de mettre à jour les statuts de l’association pour correspondre à son fonctionnement actuel : \n\n\n\n1) Retrait du montant de la cotisation des statuts2) Suppression de la notion de président et ajout de la notion de représentants légaux \n\n\n\nVous trouverez ici la proposition de statuts modifiés (texte proposé à la suppression barré\, et texte proposé à l’ajout souligné et en rouge). \n\n\n\nLes pouvoirs fournis pour l’AGO seront considérés valables pour l’AGE. Toutefois\, si vous souhaitiez modifier votre pouvoir\, vous pouvez nous le renvoyer.
URL:https://crocdanse.fr/event/assemblee-generale-crocdanse/
LOCATION:salle Saint-Martin Seynod\, avenue des Neigeos\, Annecy\, 74600\, France
ATTACH;FMTTYPE=image/jpeg:https://crocdanse.fr/wp-content/uploads/2025/10/assemblee-generale.jpg
END:VEVENT
END:VCALENDAR