BEGIN:VCALENDAR
VERSION:2.0
PRODID:-//crocdanse - ECPv6.15.20//NONSGML v1.0//EN
CALSCALE:GREGORIAN
METHOD:PUBLISH
X-ORIGINAL-URL:https://crocdanse.fr
X-WR-CALDESC:Évènements pour crocdanse
REFRESH-INTERVAL;VALUE=DURATION:PT1H
X-Robots-Tag:noindex
X-PUBLISHED-TTL:PT1H
BEGIN:VTIMEZONE
TZID:Europe/Paris
BEGIN:DAYLIGHT
TZOFFSETFROM:+0100
TZOFFSETTO:+0200
TZNAME:CEST
DTSTART:20240331T010000
END:DAYLIGHT
BEGIN:STANDARD
TZOFFSETFROM:+0200
TZOFFSETTO:+0100
TZNAME:CET
DTSTART:20241027T010000
END:STANDARD
BEGIN:DAYLIGHT
TZOFFSETFROM:+0100
TZOFFSETTO:+0200
TZNAME:CEST
DTSTART:20250330T010000
END:DAYLIGHT
BEGIN:STANDARD
TZOFFSETFROM:+0200
TZOFFSETTO:+0100
TZNAME:CET
DTSTART:20251026T010000
END:STANDARD
BEGIN:DAYLIGHT
TZOFFSETFROM:+0100
TZOFFSETTO:+0200
TZNAME:CEST
DTSTART:20260329T010000
END:DAYLIGHT
BEGIN:STANDARD
TZOFFSETFROM:+0200
TZOFFSETTO:+0100
TZNAME:CET
DTSTART:20261025T010000
END:STANDARD
END:VTIMEZONE
BEGIN:VEVENT
DTSTART;TZID=Europe/Paris:20251128T203000
DTEND;TZID=Europe/Paris:20251128T233000
DTSTAMP:20260424T042245
CREATED:20251008T084550Z
LAST-MODIFIED:20251009T083441Z
UID:1701-1764361800-1764372600@crocdanse.fr
SUMMARY:Bal du Polyèdre 28 Nov 2025
DESCRIPTION:Avec les groupes Trio SIROCCO et Tétradélyre \n\n\n\n\n\n\n\nLe Trio Sirocco est composé de Maxime Laurens (saxophone)\, Bastien Fortin (guitare) et Julien Giet (percussions). Dans un style original\, sensible et rythmé\, nous proposons un voyage éclectique et coloré. Nous arrangeons des classiques espagnols\, musiques de films\, de jeux vidéos\, flamenco ainsi que quelques créations : Game of Throne\, Pulp fiction\, Gerudo valley\, Concerto d’aranjuez\, I will survive (version rumba) etc… \n\n\n\n\n\n\n\nUn bal folk contemporain et festif\, une musique dynamique et inventive pour une tradition vivante\, qui vous invite irrésistiblement à la danse. \n\n\n\nLes quatre musiciens de TÉTRADÉLYRE vous proposent de partager avec eux\, le temps d’un bal\, d’une animation ou d’un concert\, un moment chaleureux et convivial. \n\n\n\nMusiques et danses de tradition populaire de France et d’ailleurs. \n\n\n\nNouvelles danses expliquées sur place.Ouvert à tous et à toutes\, débutant(e)s et confirmé(e)s.\n\n\n\nConditions d’entrée : Libre participation financière du public
URL:https://crocdanse.fr/event/bal-du-polyedre-28-novembre-2025/
LOCATION:Le Polyèdre\, 4 impasse Saint-Jean\, Annecy\, 74600
ATTACH;FMTTYPE=image/jpeg:https://crocdanse.fr/wp-content/uploads/2025/07/DSC_0091_wp.jpg
END:VEVENT
END:VCALENDAR