BEGIN:VCALENDAR
VERSION:2.0
PRODID:-//crocdanse - ECPv6.15.20//NONSGML v1.0//EN
CALSCALE:GREGORIAN
METHOD:PUBLISH
X-WR-CALNAME:crocdanse
X-ORIGINAL-URL:https://crocdanse.fr
X-WR-CALDESC:Évènements pour crocdanse
REFRESH-INTERVAL;VALUE=DURATION:PT1H
X-Robots-Tag:noindex
X-PUBLISHED-TTL:PT1H
BEGIN:VTIMEZONE
TZID:Europe/Paris
BEGIN:DAYLIGHT
TZOFFSETFROM:+0100
TZOFFSETTO:+0200
TZNAME:CEST
DTSTART:20240331T010000
END:DAYLIGHT
BEGIN:STANDARD
TZOFFSETFROM:+0200
TZOFFSETTO:+0100
TZNAME:CET
DTSTART:20241027T010000
END:STANDARD
BEGIN:DAYLIGHT
TZOFFSETFROM:+0100
TZOFFSETTO:+0200
TZNAME:CEST
DTSTART:20250330T010000
END:DAYLIGHT
BEGIN:STANDARD
TZOFFSETFROM:+0200
TZOFFSETTO:+0100
TZNAME:CET
DTSTART:20251026T010000
END:STANDARD
BEGIN:DAYLIGHT
TZOFFSETFROM:+0100
TZOFFSETTO:+0200
TZNAME:CEST
DTSTART:20260329T010000
END:DAYLIGHT
BEGIN:STANDARD
TZOFFSETFROM:+0200
TZOFFSETTO:+0100
TZNAME:CET
DTSTART:20261025T010000
END:STANDARD
END:VTIMEZONE
BEGIN:VEVENT
DTSTART;TZID=Europe/Paris:20251209T193000
DTEND;TZID=Europe/Paris:20251209T213000
DTSTAMP:20260424T025126
CREATED:20250801T150343Z
LAST-MODIFIED:20251126T084109Z
UID:1516-1765308600-1765315800@crocdanse.fr
SUMMARY:atelier bourrées d'auvergne
DESCRIPTION:atelier bourrées d’auvergne\n\n\n\nanimé par nicolas lhotte\n\n\n\nRDV les mardis30 septembre\,14 et 28 octobre\,25 novembre\,9 décembre \n\n\n\nà 19h30
URL:https://crocdanse.fr/event/atelier-bourrees-dauvergne/
LOCATION:Ecole de la Jonchère\, 15 rue de la Jonchère\, Annecy\, 74600\, France
CATEGORIES:atelier
ATTACH;FMTTYPE=image/jpeg:https://crocdanse.fr/wp-content/uploads/2025/08/Bourree_dAuvergne_wp.jpg
END:VEVENT
BEGIN:VEVENT
DTSTART;TZID=Europe/Paris:20251218T140000
DTEND;TZID=Europe/Paris:20251218T163000
DTSTAMP:20260424T025126
CREATED:20251118T104758Z
LAST-MODIFIED:20251118T104759Z
UID:1859-1766066400-1766075400@crocdanse.fr
SUMMARY:Bal folk au centre social les carrés
DESCRIPTION:Bal Folk animé par le Tutti de CrocDanse \n\n\n\nEntrée libre \, accès ouvert à tous
URL:https://crocdanse.fr/event/bal-folk-au-centre-social-les-carres/
LOCATION:centre social des carrés\, 43 avenue des carrés\, annecy\, 74940\, France
CATEGORIES:bal
ATTACH;FMTTYPE=image/jpeg:https://crocdanse.fr/wp-content/uploads/2025/11/musiques-du-monde.jpg
END:VEVENT
END:VCALENDAR