BEGIN:VCALENDAR
VERSION:2.0
PRODID:-//crocdanse - ECPv6.15.20//NONSGML v1.0//EN
CALSCALE:GREGORIAN
METHOD:PUBLISH
X-ORIGINAL-URL:https://crocdanse.fr
X-WR-CALDESC:Évènements pour crocdanse
REFRESH-INTERVAL;VALUE=DURATION:PT1H
X-Robots-Tag:noindex
X-PUBLISHED-TTL:PT1H
BEGIN:VTIMEZONE
TZID:Europe/Paris
BEGIN:DAYLIGHT
TZOFFSETFROM:+0100
TZOFFSETTO:+0200
TZNAME:CEST
DTSTART:20250330T010000
END:DAYLIGHT
BEGIN:STANDARD
TZOFFSETFROM:+0200
TZOFFSETTO:+0100
TZNAME:CET
DTSTART:20251026T010000
END:STANDARD
BEGIN:DAYLIGHT
TZOFFSETFROM:+0100
TZOFFSETTO:+0200
TZNAME:CEST
DTSTART:20260329T010000
END:DAYLIGHT
BEGIN:STANDARD
TZOFFSETFROM:+0200
TZOFFSETTO:+0100
TZNAME:CET
DTSTART:20261025T010000
END:STANDARD
BEGIN:DAYLIGHT
TZOFFSETFROM:+0100
TZOFFSETTO:+0200
TZNAME:CEST
DTSTART:20270328T010000
END:DAYLIGHT
BEGIN:STANDARD
TZOFFSETFROM:+0200
TZOFFSETTO:+0100
TZNAME:CET
DTSTART:20271031T010000
END:STANDARD
END:VTIMEZONE
BEGIN:VEVENT
DTSTART;TZID=Europe/Paris:20260303T193000
DTEND;TZID=Europe/Paris:20260303T213000
DTSTAMP:20260423T214552
CREATED:20251020T080230Z
LAST-MODIFIED:20260219T091913Z
UID:1782-1772566200-1772573400@crocdanse.fr
SUMMARY:atelier danses des balkans et d'europe de l'est
DESCRIPTION:Animé par Chrstine\, Anne et Laurence \n\n\n\nLes animatrices vous emmèneront à la découverte des musicalités et rythmes de l’Europe de l’Est. Tout le monde est bienvenu. \n\n\n\nDates des différentes sessions:6 et 20 Janvier 20263 et 17 février 20263 mars 2026 \n\n\n\n \n\n\n\n\nTrouver l’école de la jonchère
URL:https://crocdanse.fr/event/atelier-danses-des-balkans-et-deurope-de-lest/
LOCATION:Ecole de la Jonchère\, 15 rue de la Jonchère\, Annecy\, 74600\, France
CATEGORIES:atelier
ATTACH;FMTTYPE=image/jpeg:https://crocdanse.fr/wp-content/uploads/2025/10/atelier-danses-des-balkans-2.jpg
END:VEVENT
BEGIN:VEVENT
DTSTART;TZID=Europe/Paris:20260306T203000
DTEND;TZID=Europe/Paris:20260306T233000
DTSTAMP:20260423T214552
CREATED:20260202T103615Z
LAST-MODIFIED:20260202T105138Z
UID:1924-1772829000-1772839800@crocdanse.fr
SUMMARY:Bal au Polyèdre du 6 Mars 2026
DESCRIPTION:avec  \n\n\n\nJ’attendsveille \n\n\n\n\n\n\n\net \n\n\n\nKEUDA KEWRA \n\n\n\nMusiques et danses de tradition populaire de France et d’ailleurs.Nouvelles danses expliquées sur place.Ouvert à tous et à toutes\, débutant(e)s et confirmé(e)s.Conditions d’entrée : Libre participation financière du public \n\n\n\nVoir l’affiche
URL:https://crocdanse.fr/event/bal-au-polyedre-du-6-mars-2026/
LOCATION:Le Polyèdre\, 4 impasse Saint-Jean\, Annecy\, 74600
ATTACH;FMTTYPE=image/jpeg:https://crocdanse.fr/wp-content/uploads/2026/02/polyedre-6mars2026.jpg
END:VEVENT
END:VCALENDAR